BEGIN:VCALENDAR
VERSION:1.0
BEGIN:VEVENT
UID:i-event-78
SUMMARY: Event Third Sunday at North SeaTac Park
DESCRIPTION;ENCODING=QUOTED-PRINTABLE:Help restore beautiful North SeaTac Park&#x27;s forest! Volunteers have been transforming this site - nicknamed &quot;The Enchanted Glade&quot; since fall of 2020. A thick mat of ivy covering the ground and the trunks of Douglas Fir and Madrones - along with blackberry vines entangling the lower branches of trees - has been cleared in a large area - and native plants are beginning to regrow.

We will focus on protecting native trees and other plants - including many that have recently been planted - by removing ivy, thistle, and blackberry weeds and applying mulch. Come learn some restoration basics and help out your community. This is work that really matters!
LOCATION:North SeaTac Park
DTSTART:20230416T100000
DTEND:20230416T120000
END:VEVENT
END:VCALENDAR
