BEGIN:VCALENDAR
VERSION:1.0
BEGIN:VEVENT
UID:i-event-65
SUMMARY: Event Tyee HS at Angle Lake Park
DESCRIPTION;ENCODING=QUOTED-PRINTABLE:Help continue community stewardship activities at Angle Lake Park. We will be removing invasive species to prepare for future planting on Green SeaTac Day 2022. Your work will help improve the forest and lake ecosystems at the park. 

No experience necessary, we will teach you about native plants and the importance of the urban forest!
LOCATION:Angle Lake Nature Trail
DTSTART:20221011T113000
DTEND:20221011T140000
END:VEVENT
END:VCALENDAR
