BEGIN:VCALENDAR
VERSION:2.0
METHOD:PUBLISH
PRODID:-//CLC//v1.0//EN
X-WR-TIMEZONE:US/Pacific
CALSCALE:GREGORIAN
BEGIN:VEVENT
UID:-event-59
DTSTAMP:20220731T150000
DTSTART:20220731T150000
DTEND:20220731T170000
SUMMARY: Event Last Sunday Forest Recue at North SeaTac Park
LOCATION:North SeaTac Park
ORGANIZER;CN=Noemie Maxwell
CATEGORIES:Work Party
CLASS:PUBLIC
CONTACT:noemie_maxwell@yahoo.com
END:VEVENT
END:VCALENDAR
