BEGIN:VCALENDAR
VERSION:1.0
BEGIN:VEVENT
UID:i-event-50
SUMMARY: Event Fathers Day Forest Rescue at North SeaTac Park
DESCRIPTION;ENCODING=QUOTED-PRINTABLE:Help restore beautiful North SeaTac Park&#x27;s forest! Volunteers have been transforming this site - nicknamed &quot;The Enchanted Glade&quot; since fall of 2020. A thick mat of ivy covering the ground and the trunks of Douglas Fir and Madrones - along with blackberry vines entangling the lower branches of trees - has been cleared in a large area - and native plants are beginning to regrow.

We will focus on removing blackberry, ivy, and thistle weeds that have re-emerged in areas that were already cleared - with a special attention to protecting newly-planted trees. Come learn some restoration basics and help out your community. This is work that really matters!
LOCATION:North SeaTac Park
DTSTART:20220619T100000
DTEND:20220619T120000
END:VEVENT
END:VCALENDAR
