BEGIN:VCALENDAR
VERSION:1.0
BEGIN:VEVENT
UID:i-event-30
SUMMARY: Event Third Sunday at North SeaTac Park
DESCRIPTION;ENCODING=QUOTED-PRINTABLE:Join with neighbors to help restore N. SeaTac Park&#x27;s forest. This corner of the park was almost completely overrun with ivy until we began to transform it in early 2021. In Oct on Green SeaTac Day, volunteers planted over 400 native trees, shrubs, and other plants here. 

This will be the second event after this planting to monitor how the new plants are doing, make sure new ivy hasn&#x27;t grown since our last visit, and expand the area of freed forest. We&#x27;ll also rescue at least one mature tree from ivy.
LOCATION:North SeaTac Park
DTSTART:20211219T150000
DTEND:20211219T170000
END:VEVENT
END:VCALENDAR
