BEGIN:VCALENDAR
VERSION:1.0
BEGIN:VEVENT
UID:i-event-147
SUMMARY: Event MLK Day of Service in North SeaTac
DESCRIPTION;ENCODING=QUOTED-PRINTABLE:Join us as we recognize MLK Day of Service by restoring and cleaning up North SeaTac Park! Together, we’ll help restore one of our local green spaces through trash and debris removal and trail maintenance.

Activities will include pulling ivy, digging out blackberry, mulching and cleaning up any litter along our way.

Únase a nosotros para reconocer el Día de Servicio de MLK restaurando y limpiando el Parque North SeaTac. ¡Juntos ayudaremos a recuperar uno de nuestros espacios verdes locales mediante la eliminación de basura y escombros y el mantenimiento de senderos!

Las actividades incluirán quitar hiedra, desenterrar zarzamora y limpiar cualquier basura a nuestro paso.
LOCATION:North SeaTac Park
DTSTART:20260119T100000
DTEND:20260119T120000
END:VEVENT
END:VCALENDAR
