BEGIN:VCALENDAR
VERSION:2.0
METHOD:PUBLISH
PRODID:-//CLC//v1.0//EN
X-WR-TIMEZONE:US/Pacific
CALSCALE:GREGORIAN
BEGIN:VEVENT
UID:-event-134
DTSTAMP:20251128T100000
DTSTART:20251128T100000
DTEND:20251128T120000
SUMMARY: Event Black Friday, Green City
LOCATION:North SeaTac Park
ORGANIZER;CN=Tom Furey
CATEGORIES:Work Party
CLASS:PUBLIC
CONTACT:furey.tj@gmail.com
END:VEVENT
END:VCALENDAR
