BEGIN:VCALENDAR
VERSION:1.0
BEGIN:VEVENT
UID:i-event-125
SUMMARY: Event Green SeaTac Day
DESCRIPTION;ENCODING=QUOTED-PRINTABLE:Celebrate SeaTac&#x27;s urban forests and plant a tree! Join us to celebrate restoration efforts at North SeaTac Park and help with weeding, mulching, and planting efforts!
LOCATION:North SeaTac Park
DTSTART:20251025T100000
DTEND:20251025T120000
END:VEVENT
END:VCALENDAR
