BEGIN:VCALENDAR
VERSION:1.0
BEGIN:VEVENT
UID:i-event-121
SUMMARY: Event Weeding in N SeaTac Park
DESCRIPTION;ENCODING=QUOTED-PRINTABLE:September marks the end of summer — and the final stretch of weeding season! Come learn about our growing volunteer-planted forest in North SeaTac Park, its valuable ecological services to our community, and how you can help protect it from common weeds such as blackberry and ivy. Help us dig out as many of these weeds as we can to clear space for the exciting work of planting in the fall!

Text or call Cat at 206-719-0949 if you are having trouble finding us.
LOCATION:North SeaTac Park
DTSTART:20250913T100000
DTEND:20250913T120000
END:VEVENT
END:VCALENDAR
