BEGIN:VCALENDAR
VERSION:2.0
METHOD:PUBLISH
PRODID:-//CLC//v1.0//EN
X-WR-TIMEZONE:US/Pacific
CALSCALE:GREGORIAN
BEGIN:VEVENT
UID:-event-104
DTSTAMP:20231021T100000
DTSTART:20231021T100000
DTEND:20231021T120000
SUMMARY: Event Green SeaTac Day 2023
LOCATION:North SeaTac Park
ORGANIZER;CN=Mike Fitzpatrick
CATEGORIES:Work Party
CLASS:PUBLIC
CONTACT:mfitzpatrick@seatacwa.gov
END:VEVENT
END:VCALENDAR
