BEGIN:VCALENDAR
VERSION:1.0
BEGIN:VEVENT
UID:i-event-100
SUMMARY: Event Fourth Sunday in North SeaTac Park
DESCRIPTION;ENCODING=QUOTED-PRINTABLE:Help heal the forest in a major urban oasis just four miles south of Seattle. North SeaTac Park is a 220-acre park under the flight paths of SeaTac Airport. The trees here clean, quiet, and cool the air - true guardians of the community!

We&#x27;ll be working in an area under towering poplars and Douglas Fir that was almost completely overrun with ivy that carpeted the ground and climbed the tree trunks until we began to transform it in early 2021. During two annual Green SeaTac Days in 2021 and 2022, volunteers have planted white pine, grand and Douglas Fir, cedar, snowberries, fringe cup, salal, flowering currant, and more on the newly-cleared land. Continuing work is needed to protect these new plantings so that they can thrive.

At this event, we&#x27;ll do a site tour to see how the new plantings are doing, remove re-emerging weeds, apply mulch, and continue to expand the cleared area to provide even more of a buffer for the new plantings as well as space for new ones.
LOCATION:North SeaTac Park
DTSTART:20230827T150000
DTEND:20230827T170000
END:VEVENT
END:VCALENDAR
